BEGIN:VCALENDAR
VERSION:2.0
PRODID:-//Tukios.com/
BEGIN:VEVENT
UID:68f1b392-1897-41f0-b595-02b3acdb7f79@www.myrhum-patten.com
DTSTAMP:20260423T014136Z
DTSTART:20260428T170000Z
DTEND:20260428T180000Z
SUMMARY:Funeral Service
DESCRIPTION:
URL:https://www.myrhum-patten.com/obituaries/ronald-taubenheim-sr
LOCATION:First Baptist Church 2300 South Main Street  West Bend WI 53095
GEO:43.3923863;-88.183132
END:VEVENT
END:VCALENDAR