BEGIN:VCALENDAR
VERSION:2.0
PRODID:-//Tukios.com/
BEGIN:VEVENT
UID:0fe87b63-4013-43a2-a7e3-4411e5f7598e@www.myrhum-patten.com
DTSTAMP:20260423T014423Z
DTSTART:20260428T160000Z
DTEND:20260428T164500Z
SUMMARY:Visitation
DESCRIPTION:
URL:https://www.myrhum-patten.com/obituaries/ronald-taubenheim-sr
LOCATION:First Baptist Church 2300 South Main Street  West Bend WI 53095
GEO:43.3923863;-88.183132
END:VEVENT
END:VCALENDAR