BEGIN:VCALENDAR
VERSION:2.0
PRODID:-//Tukios.com/
BEGIN:VEVENT
UID:e56e19de-cac9-44e4-94cd-ee327f7a763a@www.myrhum-patten.com
DTSTAMP:20260422T201830Z
DTSTART:20260426T200000Z
DTEND:20260426T210000Z
SUMMARY:Memorial Service
DESCRIPTION:
URL:https://www.myrhum-patten.com/obituaries/natalie-lloyd
LOCATION: 1315 W Washington St  West Bend WI 53095
GEO:43.4266513;-88.1945118
END:VEVENT
END:VCALENDAR