BEGIN:VCALENDAR
VERSION:2.0
PRODID:-//Tukios.com/
BEGIN:VEVENT
UID:f88f2909-e0cf-4289-95e2-1f332f901825@www.myrhum-patten.com
DTSTAMP:20260422T201953Z
DTSTART:20260426T190000Z
DTEND:20260426T200000Z
SUMMARY:Visitation
DESCRIPTION:
URL:https://www.myrhum-patten.com/obituaries/natalie-lloyd
LOCATION: 1315 W Washington St  West Bend WI 53095
GEO:43.4266513;-88.1945118
END:VEVENT
END:VCALENDAR