BEGIN:VCALENDAR
VERSION:2.0
PRODID:-//Tukios.com/
BEGIN:VEVENT
UID:33edb5fa-53dd-4b4d-9d6c-b9d0ca1a302e@www.myrhum-patten.com
DTSTAMP:20260424T213942Z
DTSTART:20260502T173000Z
DTEND:20260502T183000Z
SUMMARY:Funeral Service
DESCRIPTION:
URL:https://www.myrhum-patten.com/obituaries/karen-gnatzig
LOCATION: 7750 State Highway 144  West Bend WI 53090
GEO:43.4719287;-88.14412
END:VEVENT
END:VCALENDAR