BEGIN:VCALENDAR
VERSION:2.0
PRODID:-//Tukios.com/
BEGIN:VEVENT
UID:e93e4575-fe77-459a-abe9-f6da7a5997b1@www.myrhum-patten.com
DTSTAMP:20260424T213844Z
DTSTART:20260502T160000Z
DTEND:20260502T171500Z
SUMMARY:Celebration of Life
DESCRIPTION:
URL:https://www.myrhum-patten.com/obituaries/karen-gnatzig
LOCATION: 7750 State Highway 144  West Bend WI 53090
GEO:43.4719287;-88.14412
END:VEVENT
END:VCALENDAR