BEGIN:VCALENDAR
VERSION:2.0
PRODID:-//Tukios.com/
BEGIN:VEVENT
UID:3fb6b587-eb6e-4ba0-abc5-dacdbe677f1d@www.myrhum-patten.com
DTSTAMP:20260421T223634Z
DTSTART:20260507T150000Z
DTEND:20260507T164500Z
SUMMARY:Visitation
DESCRIPTION:
URL:https://www.myrhum-patten.com/obituaries/david-guerndt
LOCATION:Holy Trinity Catholic Church 331 Main Street  Kewaskum WI 53040
GEO:43.5206347;-88.2249313
END:VEVENT
END:VCALENDAR