BEGIN:VCALENDAR
VERSION:2.0
PRODID:-//Tukios.com/
BEGIN:VEVENT
UID:08e41307-bb03-4a79-8886-7b0981bc4a56@www.myrhum-patten.com
DTSTAMP:20260420T221443Z
DTSTART:20260424T210000Z
DTEND:20260424T220000Z
SUMMARY:Funeral Service
DESCRIPTION:
URL:https://www.myrhum-patten.com/obituaries/carol-krajcik
LOCATION: 6430 Cty Tk D  Allenton WI 53002
GEO:43.4715933;-88.3582392
END:VEVENT
END:VCALENDAR