BEGIN:VCALENDAR
VERSION:2.0
PRODID:-//Tukios.com/
BEGIN:VEVENT
UID:15fe920a-c7f9-454e-9fee-dc80a4f3d38b@www.myrhum-patten.com
DTSTAMP:20260420T221754Z
DTSTART:20260424T190000Z
DTEND:20260424T210000Z
SUMMARY:Visitation
DESCRIPTION:
URL:https://www.myrhum-patten.com/obituaries/carol-krajcik
LOCATION: 6430 Cty Tk D  Allenton WI 53002
GEO:43.4715933;-88.3582392
END:VEVENT
END:VCALENDAR