BEGIN:VCALENDAR
VERSION:2.0
PRODID:-//Tukios.com/
BEGIN:VEVENT
UID:258ec561-e4ac-4a13-b985-5b0bac0a28a7@www.myrhum-patten.com
DTSTAMP:20260423T224712Z
DTSTART:20260427T170000Z
DTEND:20260427T180000Z
SUMMARY:Mass
DESCRIPTION:
URL:https://www.myrhum-patten.com/obituaries/barbara-tousey
LOCATION:Holy Angels Catholic Church 138 North 8th Avenue  West Bend WI 
	53095
GEO:43.4238145;-88.186906
END:VEVENT
END:VCALENDAR