BEGIN:VCALENDAR
VERSION:2.0
PRODID:-//Tukios.com/
BEGIN:VEVENT
UID:d6e69562-984b-434a-9703-8777d6b20780@www.myrhum-patten.com
DTSTAMP:20260423T224230Z
DTSTART:20260427T150000Z
DTEND:20260427T164500Z
SUMMARY:Visitation
DESCRIPTION:
URL:https://www.myrhum-patten.com/obituaries/barbara-tousey
LOCATION:Holy Angels Catholic Church 138 North 8th Avenue  West Bend WI 
	53095
GEO:43.4238145;-88.186906
END:VEVENT
END:VCALENDAR